BEGIN:VCALENDAR
VERSION:2.0
PRODID:-//The Bermuda National Trust - ECPv6.6.1//NONSGML v1.0//EN
CALSCALE:GREGORIAN
METHOD:PUBLISH
X-WR-CALNAME:The Bermuda National Trust
X-ORIGINAL-URL:https://bnt.advdev.space
X-WR-CALDESC:Events for The Bermuda National Trust
REFRESH-INTERVAL;VALUE=DURATION:PT1H
X-Robots-Tag:noindex
X-PUBLISHED-TTL:PT1H
BEGIN:VTIMEZONE
TZID:America/Halifax
BEGIN:DAYLIGHT
TZOFFSETFROM:-0400
TZOFFSETTO:-0300
TZNAME:ADT
DTSTART:20230312T060000
END:DAYLIGHT
BEGIN:STANDARD
TZOFFSETFROM:-0300
TZOFFSETTO:-0400
TZNAME:AST
DTSTART:20231105T050000
END:STANDARD
END:VTIMEZONE
BEGIN:VEVENT
DTSTART;TZID=America/Halifax:20231218T083000
DTEND;TZID=America/Halifax:20231221T150000
DTSTAMP:20260422T190501
CREATED:20231109T160229Z
LAST-MODIFIED:20231111T124214Z
UID:15478-1702888200-1703170800@bnt.advdev.space
SUMMARY:Bermuda National Trust Holiday Camp
DESCRIPTION:Dates: Monday\, 18th December 2023 – Thursday\, 21 December 2023 (4 Day Camp) \nAges: 7 to 12 years \nCost: 8:30am – 3:00 pm $220; Aftercare (additional fee) 3:00pm – 5:00 pm $60 \nDetails: Spend four days with us creating amazing Christmas crafts and playing fun themed games! Designing and making fabulous string-balloon wintery scenes\, creating hand-crafted Christmas cards and sparkling tree decorations\, running around our garden finding clues in our Christmas-themed scavenger hunt – these are just some of the activities on offer. The camp finishes with the children baking delicious bread\, and playing our famous Santa\, Elves\, and Grinch Game. \nLocation: Drop-off and pick-up at Bermuda National Trust Offices at Waterville\, 2 Pomander Road\, Paget \nPlease note that BNT camp is a BNT membership benefit. \n15 places in total
URL:https://bnt.advdev.space/camp/holiday-camp/
ATTACH;FMTTYPE=image/jpeg:https://bnt.advdev.space/wp-content/uploads/2023/11/bnt-camp.jpg
END:VEVENT
END:VCALENDAR