BEGIN:VCALENDAR
VERSION:2.0
PRODID:-//The Bermuda National Trust - ECPv6.6.1//NONSGML v1.0//EN
CALSCALE:GREGORIAN
METHOD:PUBLISH
X-WR-CALNAME:The Bermuda National Trust
X-ORIGINAL-URL:https://bnt.advdev.space
X-WR-CALDESC:Events for The Bermuda National Trust
REFRESH-INTERVAL;VALUE=DURATION:PT1H
X-Robots-Tag:noindex
X-PUBLISHED-TTL:PT1H
BEGIN:VTIMEZONE
TZID:America/Halifax
BEGIN:DAYLIGHT
TZOFFSETFROM:-0400
TZOFFSETTO:-0300
TZNAME:ADT
DTSTART:20250309T060000
END:DAYLIGHT
BEGIN:STANDARD
TZOFFSETFROM:-0300
TZOFFSETTO:-0400
TZNAME:AST
DTSTART:20251102T050000
END:STANDARD
END:VTIMEZONE
BEGIN:VEVENT
DTSTART;TZID=America/Halifax:20250210T083000
DTEND;TZID=America/Halifax:20250214T150000
DTSTAMP:20260421T155023
CREATED:20250110T184228Z
LAST-MODIFIED:20250120T134625Z
UID:19091-1739176200-1739545200@bnt.advdev.space
SUMMARY:BNT February Camp 2025
DESCRIPTION:Active membership (junior minimum) is required for BNT Camps.  Click here for membership. \nCamps are for children ages 8 – 11. \nFall Camp: 10 February – 14 February 2025 \nCost: 8:30 am – 3:00 pm $ 300; Aftercare (additional fee) 3:00 pm – 5:00 pm $75
URL:https://bnt.advdev.space/camp/bnt-february-camp-2025/
LOCATION:Waterville\, 2 Pomander Road\, Paget\, WKBX\, Bermuda
ORGANIZER;CN="Bermuda National Trust":MAILTO:palmetto@bnt.bm
END:VEVENT
END:VCALENDAR